BEGIN:VCALENDAR
VERSION:2.0
CALSCALE:GREGORIAN
PRODID:-//Diputació de Barcelona//DibaCMS//EN
BEGIN:VEVENT
UID:9720
DTSTAMP:20260423T055048
DTSTART:20221029T170000
DTEND:20221029T000000
SUMMARY:Castanyada Terrorífica
LOCATION:
METHOD:PUBLISH
X-WR-CALNAME:info@parets.cat
X-WR-TIMEZONE:Europe/Madrid
DESCRIPTION:Organitza: Casal de Joves Cal Jardiner
URI:https://www.parets.cat/actualitat/agenda/castanyada-terrorifica.html
CLASS:PUBLIC
END:VEVENT
END:VCALENDAR
