BEGIN:VCALENDAR
VERSION:2.0
CALSCALE:GREGORIAN
PRODID:-//Diputació de Barcelona//DibaCMS//EN
BEGIN:VEVENT
UID:9722
DTSTAMP:20260422T230439
DTSTART:20221031T210000
DTEND:20221031T233000
SUMMARY:Terror a la Linera. Vine al Bosc del Terror
LOCATION:
METHOD:PUBLISH
X-WR-CALNAME:info@parets.cat
X-WR-TIMEZONE:Europe/Madrid
DESCRIPTION:Organitza: Ara Sarau
URI:https://www.parets.cat/actualitat/agenda/9722-terror-a-la-linera-vine-al-bosc-del-terror.html
CLASS:PUBLIC
END:VEVENT
END:VCALENDAR
