BEGIN:VCALENDAR
VERSION:2.0
CALSCALE:GREGORIAN
PRODID:-//Diputació de Barcelona//DibaCMS//EN
BEGIN:VEVENT
UID:9723
DTSTAMP:20260422T230612
DTSTART:20221101T000000
DTEND:20221130T000000
SUMMARY:Campanya de sensiblilització sobre les violències masclistes # Paretsamblaigualtat
LOCATION:
METHOD:PUBLISH
X-WR-CALNAME:info@parets.cat
X-WR-TIMEZONE:Europe/Madrid
DESCRIPTION:Organitza: Servei de Feminisme, LGTBI i Transversalitats
URI:https://www.parets.cat/actualitat/agenda/campanya-de-sensiblilitzacio-sobre-les-violencies-masclistes--paretsamblaigualtat.html
CLASS:PUBLIC
END:VEVENT
END:VCALENDAR
