BEGIN:VCALENDAR
VERSION:2.0
CALSCALE:GREGORIAN
PRODID:-//Diputació de Barcelona//DibaCMS//EN
BEGIN:VEVENT
UID:9724
DTSTAMP:20260423T070623
DTSTART:20221101T000000
DTEND:20221130T000000
SUMMARY:Projecte Gènere als instituts al Torre Malla
LOCATION:
METHOD:PUBLISH
X-WR-CALNAME:info@parets.cat
X-WR-TIMEZONE:Europe/Madrid
DESCRIPTION:Organitza: Servei de Feminisme, LGTBI i Transversalitats
URI:https://www.parets.cat/actualitat/agenda/projecte-genere-als-instituts-al-torre-malla.html
CLASS:PUBLIC
END:VEVENT
END:VCALENDAR
