BEGIN:VCALENDAR
VERSION:2.0
CALSCALE:GREGORIAN
PRODID:-//Diputació de Barcelona//DibaCMS//EN
BEGIN:VEVENT
UID:9727
DTSTAMP:20260423T000422
DTSTART:20221102T183000
DTEND:20221102T200000
SUMMARY:Club de lectura
LOCATION:
METHOD:PUBLISH
X-WR-CALNAME:info@parets.cat
X-WR-TIMEZONE:Europe/Madrid
DESCRIPTION:Organitza: Biblioteca Can Rajoler
URI:https://www.parets.cat/actualitat/agenda/9727-club-de-lectura.html
CLASS:PUBLIC
END:VEVENT
END:VCALENDAR
