BEGIN:VCALENDAR
VERSION:2.0
CALSCALE:GREGORIAN
PRODID:-//Diputació de Barcelona//DibaCMS//EN
BEGIN:VEVENT
UID:9732
DTSTAMP:20260422T220056
DTSTART:20221104T173000
DTEND:20221104T190000
SUMMARY:Taller infantil: Vigileu amb el monstre!
LOCATION:
METHOD:PUBLISH
X-WR-CALNAME:info@parets.cat
X-WR-TIMEZONE:Europe/Madrid
DESCRIPTION:Organitza: Biblioteca Can Rajoler
URI:https://www.parets.cat/actualitat/agenda/taller-infantil-vigileu-amb-el-monstre.html
CLASS:PUBLIC
END:VEVENT
END:VCALENDAR
