BEGIN:VCALENDAR
VERSION:2.0
CALSCALE:GREGORIAN
PRODID:-//Diputació de Barcelona//DibaCMS//EN
BEGIN:VEVENT
UID:9735
DTSTAMP:20260422T230409
DTSTART:20221106T080000
DTEND:20221106T140000
SUMMARY:Diada dels Manyacs a Parets del Vallès i Cercavila
LOCATION:
METHOD:PUBLISH
X-WR-CALNAME:info@parets.cat
X-WR-TIMEZONE:Europe/Madrid
DESCRIPTION:Organitza: Colla Castellera Manyacs de Parets del Vallès
URI:https://www.parets.cat/actualitat/agenda/9735-diada-dels-manyacs-a-parets-del-valles-i-cercavila.html
CLASS:PUBLIC
END:VEVENT
END:VCALENDAR
