BEGIN:VCALENDAR
VERSION:2.0
CALSCALE:GREGORIAN
PRODID:-//Diputació de Barcelona//DibaCMS//EN
BEGIN:VEVENT
UID:9738
DTSTAMP:20260423T005254
DTSTART:20221108T180000
DTEND:20221108T000000
SUMMARY:Presentació del protocol d'Abordatge de les violències masclistes de Parets del Vallès
LOCATION:
METHOD:PUBLISH
X-WR-CALNAME:info@parets.cat
X-WR-TIMEZONE:Europe/Madrid
DESCRIPTION:Organitza: Servei de Feminisme, LGTBI i Transversalitats
URI:https://www.parets.cat/actualitat/agenda/presentacio-del-protocol-dabordatge-de-les-violencies-masclistes-de-parets-del-valles.html
CLASS:PUBLIC
END:VEVENT
END:VCALENDAR
