BEGIN:VCALENDAR
VERSION:2.0
CALSCALE:GREGORIAN
PRODID:-//Diputació de Barcelona//DibaCMS//EN
BEGIN:VEVENT
UID:9739
DTSTAMP:20260423T022356
DTSTART:20221108T173000
DTEND:20221108T180000
SUMMARY:Story Time: The Frog Prince
LOCATION:
METHOD:PUBLISH
X-WR-CALNAME:info@parets.cat
X-WR-TIMEZONE:Europe/Madrid
DESCRIPTION:Organitza: Cambride School
URI:https://www.parets.cat/actualitat/agenda/story-time-the-frog-prince.html
CLASS:PUBLIC
END:VEVENT
END:VCALENDAR
