BEGIN:VCALENDAR
VERSION:2.0
CALSCALE:GREGORIAN
PRODID:-//Diputació de Barcelona//DibaCMS//EN
BEGIN:VEVENT
UID:9740
DTSTAMP:20260422T224326
DTSTART:20221108T181500
DTEND:20221108T000000
SUMMARY:Bressol de Contes
LOCATION:
METHOD:PUBLISH
X-WR-CALNAME:info@parets.cat
X-WR-TIMEZONE:Europe/Madrid
DESCRIPTION:Organitza: Biblioteca Can Butjosa
URI:https://www.parets.cat/actualitat/agenda/9740-bressol-de-contes.html
CLASS:PUBLIC
END:VEVENT
END:VCALENDAR
