BEGIN:VCALENDAR
VERSION:2.0
CALSCALE:GREGORIAN
PRODID:-//Diputació de Barcelona//DibaCMS//EN
BEGIN:VEVENT
UID:9741
DTSTAMP:20260423T090139
DTSTART:20221109T093000
DTEND:20221109T130000
SUMMARY:Teatre fòrum: Ningú més que l'altre
LOCATION:
METHOD:PUBLISH
X-WR-CALNAME:info@parets.cat
X-WR-TIMEZONE:Europe/Madrid
DESCRIPTION:Organitza: Servei de Feminisme, LGTBI i Transversalitats
URI:https://www.parets.cat/actualitat/agenda/9741-teatre-forum-ningu-mes-que-laltre.html
CLASS:PUBLIC
END:VEVENT
END:VCALENDAR
