BEGIN:VCALENDAR
VERSION:2.0
CALSCALE:GREGORIAN
PRODID:-//Diputació de Barcelona//DibaCMS//EN
BEGIN:VEVENT
UID:9742
DTSTAMP:20260423T070325
DTSTART:20221109T183000
DTEND:20221109T200000
SUMMARY:Descobreix l'art. A càrrec d'Iris Paris
LOCATION:
METHOD:PUBLISH
X-WR-CALNAME:info@parets.cat
X-WR-TIMEZONE:Europe/Madrid
DESCRIPTION:Organitza: Biblioteca Can Rajoler
URI:https://www.parets.cat/actualitat/agenda/9742-descobreix-lart-a-carrec-diris-paris.html
CLASS:PUBLIC
END:VEVENT
END:VCALENDAR
