BEGIN:VCALENDAR
VERSION:2.0
CALSCALE:GREGORIAN
PRODID:-//Diputació de Barcelona//DibaCMS//EN
BEGIN:VEVENT
UID:9744
DTSTAMP:20260423T022108
DTSTART:20221110T180000
DTEND:20221110T200000
SUMMARY:Taller per adults: Remeiera i preparats amb plantes medicinals
LOCATION:
METHOD:PUBLISH
X-WR-CALNAME:info@parets.cat
X-WR-TIMEZONE:Europe/Madrid
DESCRIPTION:Organitza: Biblioteca Can Rajoler
URI:https://www.parets.cat/actualitat/agenda/taller-per-adults-remeiera-i-preparats-amb-plantes-medicinals.html
CLASS:PUBLIC
END:VEVENT
END:VCALENDAR
