BEGIN:VCALENDAR
VERSION:2.0
CALSCALE:GREGORIAN
PRODID:-//Diputació de Barcelona//DibaCMS//EN
BEGIN:VEVENT
UID:9745
DTSTAMP:20260423T021354
DTSTART:20221111T110000
DTEND:20221112T103000
SUMMARY:Taller i safari fotogràfic
LOCATION:
METHOD:PUBLISH
X-WR-CALNAME:info@parets.cat
X-WR-TIMEZONE:Europe/Madrid
DESCRIPTION:Organitza: Escola de la Natura
URI:https://www.parets.cat/actualitat/agenda/9745-taller-i-safari-fotografic.html
CLASS:PUBLIC
END:VEVENT
END:VCALENDAR
