BEGIN:VCALENDAR
VERSION:2.0
CALSCALE:GREGORIAN
PRODID:-//Diputació de Barcelona//DibaCMS//EN
BEGIN:VEVENT
UID:9746
DTSTAMP:20260423T022301
DTSTART:20221111T190000
DTEND:20221127T000000
SUMMARY:Inauguració de l'exposició d'aquarel·les per a grans i petits, d'Inés Corral Jiménez
LOCATION:
METHOD:PUBLISH
X-WR-CALNAME:info@parets.cat
X-WR-TIMEZONE:Europe/Madrid
DESCRIPTION:Organitza: Servei de Cultura
URI:https://www.parets.cat/actualitat/agenda/inauguracio-de-lexposicio-daquarelles-per-a-grans-i-petits-dines-corral-jimenez.html
CLASS:PUBLIC
END:VEVENT
END:VCALENDAR
