BEGIN:VCALENDAR
VERSION:2.0
CALSCALE:GREGORIAN
PRODID:-//Diputació de Barcelona//DibaCMS//EN
BEGIN:VEVENT
UID:9747
DTSTAMP:20260423T041522
DTSTART:20221112T223000
DTEND:20221112T000000
SUMMARY:No estoy bien de David Fernández
LOCATION:
METHOD:PUBLISH
X-WR-CALNAME:info@parets.cat
X-WR-TIMEZONE:Europe/Madrid
DESCRIPTION:Organitza: Servei de Cultura
URI:https://www.parets.cat/actualitat/agenda/no-estoy-bien-de-david-fernandez.html
CLASS:PUBLIC
END:VEVENT
END:VCALENDAR
