BEGIN:VCALENDAR
VERSION:2.0
CALSCALE:GREGORIAN
PRODID:-//Diputació de Barcelona//DibaCMS//EN
BEGIN:VEVENT
UID:9748
DTSTAMP:20260423T003805
DTSTART:20221112T190000
DTEND:20221112T200000
SUMMARY:Concert: Miss Raisa
LOCATION:
METHOD:PUBLISH
X-WR-CALNAME:info@parets.cat
X-WR-TIMEZONE:Europe/Madrid
DESCRIPTION:Organitza: Servei de Feminisme, LGTBI i Transversalitats
URI:https://www.parets.cat/actualitat/agenda/concert-miss-raisa.html
CLASS:PUBLIC
END:VEVENT
END:VCALENDAR
