BEGIN:VCALENDAR
VERSION:2.0
CALSCALE:GREGORIAN
PRODID:-//Diputació de Barcelona//DibaCMS//EN
BEGIN:VEVENT
UID:9749
DTSTAMP:20260423T041422
DTSTART:20221113T180000
DTEND:20221113T000000
SUMMARY:Valentina Quàntica
LOCATION:
METHOD:PUBLISH
X-WR-CALNAME:info@parets.cat
X-WR-TIMEZONE:Europe/Madrid
DESCRIPTION:Organitza: Rialles Parets
URI:https://www.parets.cat/actualitat/agenda/9749-valentina-quantica.html
CLASS:PUBLIC
END:VEVENT
END:VCALENDAR
