BEGIN:VCALENDAR
VERSION:2.0
CALSCALE:GREGORIAN
PRODID:-//Diputació de Barcelona//DibaCMS//EN
BEGIN:VEVENT
UID:9751
DTSTAMP:20260423T063634
DTSTART:20221114T170000
DTEND:20221212T190000
SUMMARY:Taller per a pares i mares a càrrec de Leonor Cantera
LOCATION:
METHOD:PUBLISH
X-WR-CALNAME:info@parets.cat
X-WR-TIMEZONE:Europe/Madrid
DESCRIPTION:Organitza: Casal de Joves Cal Jardiner
URI:https://www.parets.cat/actualitat/agenda/taller-per-a-pares-i-mares-a-carrec-de-leonor-cantera.html
CLASS:PUBLIC
END:VEVENT
END:VCALENDAR
