BEGIN:VCALENDAR
VERSION:2.0
CALSCALE:GREGORIAN
PRODID:-//Diputació de Barcelona//DibaCMS//EN
BEGIN:VEVENT
UID:9753
DTSTAMP:20260425T122420
DTSTART:20221115T120000
DTEND:20221115T140000
SUMMARY:Amor 3.0: Otras formas de querer son posibles
LOCATION:
METHOD:PUBLISH
X-WR-CALNAME:info@parets.cat
X-WR-TIMEZONE:Europe/Madrid
DESCRIPTION:Organitza: Casal de Joves Cal Jardiner
URI:https://www.parets.cat/actualitat/agenda/amor-30-otras-formas-de-querer-son-posibles.html
CLASS:PUBLIC
END:VEVENT
END:VCALENDAR
