BEGIN:VCALENDAR
VERSION:2.0
CALSCALE:GREGORIAN
PRODID:-//Diputació de Barcelona//DibaCMS//EN
BEGIN:VEVENT
UID:9754
DTSTAMP:20260423T073800
DTSTART:20221115T083000
DTEND:20221115T000000
SUMMARY:Sortida de la gent gran a Barcelona per a la visita guiada al Museu Frederic Marés
LOCATION:
METHOD:PUBLISH
X-WR-CALNAME:info@parets.cat
X-WR-TIMEZONE:Europe/Madrid
DESCRIPTION:Organitza: Casals municipals de gent gran
URI:https://www.parets.cat/actualitat/agenda/sortida-de-la-gent-gran-a-barcelona-per-a-la-visita-guiada-al-museu-frederic-mares.html
CLASS:PUBLIC
END:VEVENT
END:VCALENDAR
