BEGIN:VCALENDAR
VERSION:2.0
CALSCALE:GREGORIAN
PRODID:-//Diputació de Barcelona//DibaCMS//EN
BEGIN:VEVENT
UID:9755
DTSTAMP:20260423T061035
DTSTART:20221115T173000
DTEND:20221115T183000
SUMMARY:Hora del conte per a infants: Fosca, a càrrec de Mon Mas
LOCATION:
METHOD:PUBLISH
X-WR-CALNAME:info@parets.cat
X-WR-TIMEZONE:Europe/Madrid
DESCRIPTION:Organitza: Biblioteca Can Rajoler
URI:https://www.parets.cat/actualitat/agenda/hora-del-conte-per-a-infants-fosca-a-carrec-de-mon-mas.html
CLASS:PUBLIC
END:VEVENT
END:VCALENDAR
