BEGIN:VCALENDAR
VERSION:2.0
CALSCALE:GREGORIAN
PRODID:-//Diputació de Barcelona//DibaCMS//EN
BEGIN:VEVENT
UID:9756
DTSTAMP:20260423T073643
DTSTART:20221117T100000
DTEND:20221117T110000
SUMMARY:Taller Jocs de falda, a càrrec de Mercè Martínez
LOCATION:
METHOD:PUBLISH
X-WR-CALNAME:info@parets.cat
X-WR-TIMEZONE:Europe/Madrid
DESCRIPTION:Organitza: Biblioteca Can Butjosa
URI:https://www.parets.cat/actualitat/agenda/9756-taller-jocs-de-falda-a-carrec-de-merce-martinez.html
CLASS:PUBLIC
END:VEVENT
END:VCALENDAR
