BEGIN:VCALENDAR
VERSION:2.0
CALSCALE:GREGORIAN
PRODID:-//Diputació de Barcelona//DibaCMS//EN
BEGIN:VEVENT
UID:9757
DTSTAMP:20260422T220839
DTSTART:20221118T173000
DTEND:20221118T200000
SUMMARY:Presentació del Grup de Recerca de Camins i Corriols
LOCATION:
METHOD:PUBLISH
X-WR-CALNAME:info@parets.cat
X-WR-TIMEZONE:Europe/Madrid
DESCRIPTION:Organitza: Escola de la Natura
URI:https://www.parets.cat/actualitat/agenda/9757-presentacio-del-grup-de-recerca-de-camins-i-corriols.html
CLASS:PUBLIC
END:VEVENT
END:VCALENDAR
