BEGIN:VCALENDAR
VERSION:2.0
CALSCALE:GREGORIAN
PRODID:-//Diputació de Barcelona//DibaCMS//EN
BEGIN:VEVENT
UID:9760
DTSTAMP:20260423T063133
DTSTART:20221118T103000
DTEND:20221118T190000
SUMMARY:Parets en els European Days of Local Solidarity: LA PLAÇA DEL DIÀLEG
LOCATION:
METHOD:PUBLISH
X-WR-CALNAME:info@parets.cat
X-WR-TIMEZONE:Europe/Madrid
DESCRIPTION:Organitza: Servei de Cooperació
URI:https://www.parets.cat/actualitat/agenda/parets-en-els-european-days-of-local-solidarity-la-placa-del-dialeg.html
CLASS:PUBLIC
END:VEVENT
END:VCALENDAR
