BEGIN:VCALENDAR
VERSION:2.0
CALSCALE:GREGORIAN
PRODID:-//Diputació de Barcelona//DibaCMS//EN
BEGIN:VEVENT
UID:9761
DTSTAMP:20260423T050651
DTSTART:20221118T190000
DTEND:20221118T000000
SUMMARY:Videofòrum: Evelyn, d'Isabel Ocampo
LOCATION:
METHOD:PUBLISH
X-WR-CALNAME:info@parets.cat
X-WR-TIMEZONE:Europe/Madrid
DESCRIPTION:Organitza: Servei de Feminisme, LGTBI i Transversalitats
URI:https://www.parets.cat/actualitat/agenda/videoforum-evelyn-disabel-ocampo.html
CLASS:PUBLIC
END:VEVENT
END:VCALENDAR
