BEGIN:VCALENDAR
VERSION:2.0
CALSCALE:GREGORIAN
PRODID:-//Diputació de Barcelona//DibaCMS//EN
BEGIN:VEVENT
UID:9762
DTSTAMP:20260423T011119
DTSTART:20221119T110000
DTEND:20221119T000000
SUMMARY:Dissabte en Família especial "Setmana de la Unesco"
LOCATION:
METHOD:PUBLISH
X-WR-CALNAME:info@parets.cat
X-WR-TIMEZONE:Europe/Madrid
DESCRIPTION:Organitza: Biblioteca Can Butjosa
URI:https://www.parets.cat/actualitat/agenda/dissabte-en-familia-especial-setmana-de-la-unesco.html
CLASS:PUBLIC
END:VEVENT
END:VCALENDAR
