BEGIN:VCALENDAR
VERSION:2.0
CALSCALE:GREGORIAN
PRODID:-//Diputació de Barcelona//DibaCMS//EN
BEGIN:VEVENT
UID:9763
DTSTAMP:20260422T235951
DTSTART:20221119T150000
DTEND:20221119T235500
SUMMARY:10è Aniversari de l'Associacio Fotogràfica Parets
LOCATION:
METHOD:PUBLISH
X-WR-CALNAME:info@parets.cat
X-WR-TIMEZONE:Europe/Madrid
DESCRIPTION:Organitza: Associació Fotogràfica de Parets del Vallès
URI:https://www.parets.cat/actualitat/agenda/10e-aniversari-de-lassociacio-fotografica-parets.html
CLASS:PUBLIC
END:VEVENT
END:VCALENDAR
