BEGIN:VCALENDAR
VERSION:2.0
CALSCALE:GREGORIAN
PRODID:-//Diputació de Barcelona//DibaCMS//EN
BEGIN:VEVENT
UID:9764
DTSTAMP:20260422T210252
DTSTART:20221119T160000
DTEND:20221119T000000
SUMMARY:Presentació dels equips Handbol Parets
LOCATION:
METHOD:PUBLISH
X-WR-CALNAME:info@parets.cat
X-WR-TIMEZONE:Europe/Madrid
DESCRIPTION:Organitza: Servei d'Esports
URI:https://www.parets.cat/actualitat/agenda/presentacio-dels-equips-handbol-parets.html
CLASS:PUBLIC
END:VEVENT
END:VCALENDAR
