BEGIN:VCALENDAR
VERSION:2.0
CALSCALE:GREGORIAN
PRODID:-//Diputació de Barcelona//DibaCMS//EN
BEGIN:VEVENT
UID:9765
DTSTAMP:20260422T194939
DTSTART:20221120T183000
DTEND:20221120T000000
SUMMARY:Anna Luna & URuBÚ
LOCATION:
METHOD:PUBLISH
X-WR-CALNAME:info@parets.cat
X-WR-TIMEZONE:Europe/Madrid
DESCRIPTION:Organitza: Servei de Cultura
URI:https://www.parets.cat/actualitat/agenda/anna-luna-and-urubu.html
CLASS:PUBLIC
END:VEVENT
END:VCALENDAR
