BEGIN:VCALENDAR
VERSION:2.0
CALSCALE:GREGORIAN
PRODID:-//Diputació de Barcelona//DibaCMS//EN
BEGIN:VEVENT
UID:9766
DTSTAMP:20260422T230553
DTSTART:20221120T080000
DTEND:20221120T000000
SUMMARY:Sortida de la Penya Blaugrana Parets en autocar a la Ràpita
LOCATION:
METHOD:PUBLISH
X-WR-CALNAME:info@parets.cat
X-WR-TIMEZONE:Europe/Madrid
DESCRIPTION:Organitza: Servei de Cultura
URI:https://www.parets.cat/actualitat/agenda/sortida-de-la-penya-blaugrana-parets-en-autocar-a-la-rapita.html
CLASS:PUBLIC
END:VEVENT
END:VCALENDAR
