BEGIN:VCALENDAR
VERSION:2.0
CALSCALE:GREGORIAN
PRODID:-//Diputació de Barcelona//DibaCMS//EN
BEGIN:VEVENT
UID:9767
DTSTAMP:20260422T174504
DTSTART:20221120T100000
DTEND:20221120T000000
SUMMARY:Caminada Solidària Associació Protectora d'animals de Parets del Vallès
LOCATION:
METHOD:PUBLISH
X-WR-CALNAME:info@parets.cat
X-WR-TIMEZONE:Europe/Madrid
DESCRIPTION:Organitza: Associació Protectora d'Animals de Parets del Vallès
URI:https://www.parets.cat/actualitat/agenda/caminada-solidaria-associacio-protectora-danimals-de-parets-del-valles.html
CLASS:PUBLIC
END:VEVENT
END:VCALENDAR
