BEGIN:VCALENDAR
VERSION:2.0
CALSCALE:GREGORIAN
PRODID:-//Diputació de Barcelona//DibaCMS//EN
BEGIN:VEVENT
UID:9768
DTSTAMP:20260422T224605
DTSTART:20221121T163000
DTEND:20221121T183000
SUMMARY:Punt Lila de Parets al Sot d'en Barriques
LOCATION:
METHOD:PUBLISH
X-WR-CALNAME:info@parets.cat
X-WR-TIMEZONE:Europe/Madrid
DESCRIPTION:Organitza: Servei de Feminisme, LGTBI i Transversalitats
URI:https://www.parets.cat/actualitat/agenda/punt-lila-de-parets-al-sot-den-barriques.html
CLASS:PUBLIC
END:VEVENT
END:VCALENDAR
