BEGIN:VCALENDAR
VERSION:2.0
CALSCALE:GREGORIAN
PRODID:-//Diputació de Barcelona//DibaCMS//EN
BEGIN:VEVENT
UID:9769
DTSTAMP:20260423T021838
DTSTART:20221121T100000
DTEND:20221121T000000
SUMMARY:Xerrada de prevenció de furts, estafes i maltractament a la gent gran
LOCATION:
METHOD:PUBLISH
X-WR-CALNAME:info@parets.cat
X-WR-TIMEZONE:Europe/Madrid
DESCRIPTION:Organitza: Mossos d'esquadra
URI:https://www.parets.cat/actualitat/agenda/xerrada-de-prevencio-de-furts-estafes-i-maltractament-a-la-gent-gran.html
CLASS:PUBLIC
END:VEVENT
END:VCALENDAR
