BEGIN:VCALENDAR
VERSION:2.0
CALSCALE:GREGORIAN
PRODID:-//Diputació de Barcelona//DibaCMS//EN
BEGIN:VEVENT
UID:9772
DTSTAMP:20260422T194622
DTSTART:20221123T173000
DTEND:20221123T190000
SUMMARY:Taller infantil: Vivim Vivaldi
LOCATION:
METHOD:PUBLISH
X-WR-CALNAME:info@parets.cat
X-WR-TIMEZONE:Europe/Madrid
DESCRIPTION:Organitza: Biblioteca Can Rajoler
URI:https://www.parets.cat/actualitat/agenda/taller-infantil-vivim-vivaldi.html
CLASS:PUBLIC
END:VEVENT
END:VCALENDAR
