BEGIN:VCALENDAR
VERSION:2.0
CALSCALE:GREGORIAN
PRODID:-//Diputació de Barcelona//DibaCMS//EN
BEGIN:VEVENT
UID:9773
DTSTAMP:20260422T185247
DTSTART:20221124T183000
DTEND:20221124T000000
SUMMARY:Taula Rodona: La violència vicària i la performance: La Mala Mare
LOCATION:
METHOD:PUBLISH
X-WR-CALNAME:info@parets.cat
X-WR-TIMEZONE:Europe/Madrid
DESCRIPTION:Organitza: Servei de Feminisme, LGTBI i Transversalitats
URI:https://www.parets.cat/actualitat/agenda/taula-rodona-la-violencia-vicaria-i-la-performance-la-mala-mare.html
CLASS:PUBLIC
END:VEVENT
END:VCALENDAR
