BEGIN:VCALENDAR
VERSION:2.0
CALSCALE:GREGORIAN
PRODID:-//Diputació de Barcelona//DibaCMS//EN
BEGIN:VEVENT
UID:9775
DTSTAMP:20260422T222106
DTSTART:20221124T173000
DTEND:20221124T000000
SUMMARY:Hora del conte a càrrec de Sònia Fernández
LOCATION:
METHOD:PUBLISH
X-WR-CALNAME:info@parets.cat
X-WR-TIMEZONE:Europe/Madrid
DESCRIPTION:Organitza: Biblioteca Can Butjosa
URI:https://www.parets.cat/actualitat/agenda/9775-hora-del-conte-a-carrec-de-sonia-fernandez.html
CLASS:PUBLIC
END:VEVENT
END:VCALENDAR
