BEGIN:VCALENDAR
VERSION:2.0
CALSCALE:GREGORIAN
PRODID:-//Diputació de Barcelona//DibaCMS//EN
BEGIN:VEVENT
UID:9777
DTSTAMP:20260422T204314
DTSTART:20221124T180000
DTEND:20221124T193000
SUMMARY:Taula de Treball pel Canvi Climàtic
LOCATION:
METHOD:PUBLISH
X-WR-CALNAME:info@parets.cat
X-WR-TIMEZONE:Europe/Madrid
DESCRIPTION:Organitza: Escola de la Natura
URI:https://www.parets.cat/actualitat/agenda/9777-taula-de-treball-pel-canvi-climatic.html
CLASS:PUBLIC
END:VEVENT
END:VCALENDAR
