BEGIN:VCALENDAR
VERSION:2.0
CALSCALE:GREGORIAN
PRODID:-//Diputació de Barcelona//DibaCMS//EN
BEGIN:VEVENT
UID:9778
DTSTAMP:20260422T185419
DTSTART:20221125T121500
DTEND:20221125T000000
SUMMARY:Dia Internacional contra la violència a les dones. Lectura del manifest institucional.
LOCATION:
METHOD:PUBLISH
X-WR-CALNAME:info@parets.cat
X-WR-TIMEZONE:Europe/Madrid
DESCRIPTION:Organitza: Servei de Feminisme, LGTBI i Transversalitats
URI:https://www.parets.cat/actualitat/agenda/dia-internacional-contra-la-violencia-a-les-dones-lectura-del-manifest-institucional.html
CLASS:PUBLIC
END:VEVENT
END:VCALENDAR
