BEGIN:VCALENDAR
VERSION:2.0
CALSCALE:GREGORIAN
PRODID:-//Diputació de Barcelona//DibaCMS//EN
BEGIN:VEVENT
UID:9779
DTSTAMP:20260422T203238
DTSTART:20221125T201500
DTEND:20221125T235500
SUMMARY:Sopar benèfic Parets Contra el Càncer
LOCATION:
METHOD:PUBLISH
X-WR-CALNAME:info@parets.cat
X-WR-TIMEZONE:Europe/Madrid
DESCRIPTION:Organitza: Associació Parets Contra el Càncer
URI:https://www.parets.cat/actualitat/agenda/sopar-benefic-parets-contra-el-cancer.html
CLASS:PUBLIC
END:VEVENT
END:VCALENDAR
