BEGIN:VCALENDAR
VERSION:2.0
CALSCALE:GREGORIAN
PRODID:-//Diputació de Barcelona//DibaCMS//EN
BEGIN:VEVENT
UID:9781
DTSTAMP:20260422T220712
DTSTART:20221125T180000
DTEND:20221125T000000
SUMMARY:Cine fòrum
LOCATION:
METHOD:PUBLISH
X-WR-CALNAME:info@parets.cat
X-WR-TIMEZONE:Europe/Madrid
DESCRIPTION:Organitza: Servei de Cultura
URI:https://www.parets.cat/actualitat/agenda/cine-forum.html
CLASS:PUBLIC
END:VEVENT
END:VCALENDAR
