BEGIN:VCALENDAR
VERSION:2.0
CALSCALE:GREGORIAN
PRODID:-//Diputació de Barcelona//DibaCMS//EN
BEGIN:VEVENT
UID:9784
DTSTAMP:20260422T220351
DTSTART:20221126T190000
DTEND:20221126T000000
SUMMARY:Monòleg amb Ana Polo
LOCATION:
METHOD:PUBLISH
X-WR-CALNAME:info@parets.cat
X-WR-TIMEZONE:Europe/Madrid
DESCRIPTION:Organitza: Servei de Feminisme, LGTBI i Transversalitats
URI:https://www.parets.cat/actualitat/agenda/9784-monoleg-amb-ana-polo.html
CLASS:PUBLIC
END:VEVENT
END:VCALENDAR
