BEGIN:VCALENDAR
VERSION:2.0
CALSCALE:GREGORIAN
PRODID:-//Diputació de Barcelona//DibaCMS//EN
BEGIN:VEVENT
UID:9785
DTSTAMP:20260422T221859
DTSTART:20221126T223000
DTEND:20221126T000000
SUMMARY:Ball de Saló, obert al públic
LOCATION:
METHOD:PUBLISH
X-WR-CALNAME:info@parets.cat
X-WR-TIMEZONE:Europe/Madrid
DESCRIPTION:Organitza: Associació Balls de Saló de Parets del Vallès
URI:https://www.parets.cat/actualitat/agenda/ball-de-salo-obert-al-public.html
CLASS:PUBLIC
END:VEVENT
END:VCALENDAR
