BEGIN:VCALENDAR
VERSION:2.0
CALSCALE:GREGORIAN
PRODID:-//Diputació de Barcelona//DibaCMS//EN
BEGIN:VEVENT
UID:9786
DTSTAMP:20260422T202240
DTSTART:20221126T000000
DTEND:20221126T000000
SUMMARY:Gran recapte d'aliments als supermercats de Parets del Vallès
LOCATION:
METHOD:PUBLISH
X-WR-CALNAME:info@parets.cat
X-WR-TIMEZONE:Europe/Madrid
DESCRIPTION:Organitza: Voluntaris Parets i Càritas Parets
URI:https://www.parets.cat/actualitat/agenda/9786-gran-recapte-daliments-als-supermercats-de-parets-del-valles.html
CLASS:PUBLIC
END:VEVENT
END:VCALENDAR
