BEGIN:VCALENDAR
VERSION:2.0
CALSCALE:GREGORIAN
PRODID:-//Diputació de Barcelona//DibaCMS//EN
BEGIN:VEVENT
UID:9787
DTSTAMP:20260422T220517
DTSTART:20221126T170000
DTEND:20221126T000000
SUMMARY:Playback "Ara batega el cor" a càrrec del grup la Il·lusió no té edat
LOCATION:
METHOD:PUBLISH
X-WR-CALNAME:info@parets.cat
X-WR-TIMEZONE:Europe/Madrid
DESCRIPTION:Organitza: Servei de Gent Gran
URI:https://www.parets.cat/actualitat/agenda/playback-ara-batega-el-cor-a-carrec-del-grup-la-illusio-no-te-edat.html
CLASS:PUBLIC
END:VEVENT
END:VCALENDAR
