BEGIN:VCALENDAR
VERSION:2.0
CALSCALE:GREGORIAN
PRODID:-//Diputació de Barcelona//DibaCMS//EN
BEGIN:VEVENT
UID:9788
DTSTAMP:20260422T213535
DTSTART:20221127T183000
DTEND:20221127T000000
SUMMARY:Les bones intencions de Marc Artigau
LOCATION:
METHOD:PUBLISH
X-WR-CALNAME:info@parets.cat
X-WR-TIMEZONE:Europe/Madrid
DESCRIPTION:Organitza: Servei de Cultura
URI:https://www.parets.cat/actualitat/agenda/les-bones-intencions-de-marc-artigau.html
CLASS:PUBLIC
END:VEVENT
END:VCALENDAR
