BEGIN:VCALENDAR
VERSION:2.0
CALSCALE:GREGORIAN
PRODID:-//Diputació de Barcelona//DibaCMS//EN
BEGIN:VEVENT
UID:9789
DTSTAMP:20260423T000619
DTSTART:20221128T100000
DTEND:20221128T000000
SUMMARY:Conferència: Dones que treballen amb dones
LOCATION:
METHOD:PUBLISH
X-WR-CALNAME:info@parets.cat
X-WR-TIMEZONE:Europe/Madrid
DESCRIPTION:Organitza: Casal de Joves Cal Jardiner
URI:https://www.parets.cat/actualitat/agenda/conferencia-dones-que-treballen-amb-dones.html
CLASS:PUBLIC
END:VEVENT
END:VCALENDAR
