BEGIN:VCALENDAR
VERSION:2.0
CALSCALE:GREGORIAN
PRODID:-//Diputació de Barcelona//DibaCMS//EN
BEGIN:VEVENT
UID:9791
DTSTAMP:20260423T000042
DTSTART:20221129T173000
DTEND:20221129T183000
SUMMARY:Hora del conte per a nadons. Opopó
LOCATION:
METHOD:PUBLISH
X-WR-CALNAME:info@parets.cat
X-WR-TIMEZONE:Europe/Madrid
DESCRIPTION:Organitza: Biblioteca Can Rajoler
URI:https://www.parets.cat/actualitat/agenda/hora-del-conte-per-a-nadons-opopo.html
CLASS:PUBLIC
END:VEVENT
END:VCALENDAR
