BEGIN:VCALENDAR
VERSION:2.0
CALSCALE:GREGORIAN
PRODID:-//Diputació de Barcelona//DibaCMS//EN
BEGIN:VEVENT
UID:9793
DTSTAMP:20260422T221517
DTSTART:20221130T170000
DTEND:20221130T000000
SUMMARY:Xerrada de prevenció de furts, estafes i maltractament a la gent gran
LOCATION:
METHOD:PUBLISH
X-WR-CALNAME:info@parets.cat
X-WR-TIMEZONE:Europe/Madrid
DESCRIPTION:Organitza: Mossos d'esquadra
URI:https://www.parets.cat/actualitat/agenda/9793-xerrada-de-prevencio-de-furts-estafes-i-maltractament-a-la-gent-gran.html
CLASS:PUBLIC
END:VEVENT
END:VCALENDAR
