BEGIN:VCALENDAR
VERSION:2.0
CALSCALE:GREGORIAN
PRODID:-//Diputació de Barcelona//DibaCMS//EN
BEGIN:VEVENT
UID:9794
DTSTAMP:20260422T184304
DTSTART:20221201T183000
DTEND:20221201T200000
SUMMARY:Presentació del llibre: "Cuatro reinas" d'Esther Ventura
LOCATION:
METHOD:PUBLISH
X-WR-CALNAME:info@parets.cat
X-WR-TIMEZONE:Europe/Madrid
DESCRIPTION:Organitza: Biblioteca Can Rajoler
URI:https://www.parets.cat/actualitat/agenda/presentacio-del-llibre-cuatro-reinas-desther-ventura.html
CLASS:PUBLIC
END:VEVENT
END:VCALENDAR
